BEGIN:VCALENDAR
VERSION:2.0
PRODID:-//Henrys Home Sanctuary - ECPv6.15.13//NONSGML v1.0//EN
CALSCALE:GREGORIAN
METHOD:PUBLISH
X-WR-CALNAME:Henrys Home Sanctuary
X-ORIGINAL-URL:https://henryshomesanctuary.org
X-WR-CALDESC:Events for Henrys Home Sanctuary
REFRESH-INTERVAL;VALUE=DURATION:PT1H
X-Robots-Tag:noindex
X-PUBLISHED-TTL:PT1H
BEGIN:VTIMEZONE
TZID:America/Chicago
BEGIN:DAYLIGHT
TZOFFSETFROM:-0600
TZOFFSETTO:-0500
TZNAME:CDT
DTSTART:20240310T080000
END:DAYLIGHT
BEGIN:STANDARD
TZOFFSETFROM:-0500
TZOFFSETTO:-0600
TZNAME:CST
DTSTART:20241103T070000
END:STANDARD
BEGIN:DAYLIGHT
TZOFFSETFROM:-0600
TZOFFSETTO:-0500
TZNAME:CDT
DTSTART:20250309T080000
END:DAYLIGHT
BEGIN:STANDARD
TZOFFSETFROM:-0500
TZOFFSETTO:-0600
TZNAME:CST
DTSTART:20251102T070000
END:STANDARD
BEGIN:DAYLIGHT
TZOFFSETFROM:-0600
TZOFFSETTO:-0500
TZNAME:CDT
DTSTART:20260308T080000
END:DAYLIGHT
BEGIN:STANDARD
TZOFFSETFROM:-0500
TZOFFSETTO:-0600
TZNAME:CST
DTSTART:20261101T070000
END:STANDARD
END:VTIMEZONE
BEGIN:VEVENT
DTSTART;TZID=America/Chicago:20250406T083000
DTEND;TZID=America/Chicago:20250406T100000
DTSTAMP:20260423T132509
CREATED:20241113T041524Z
LAST-MODIFIED:20251031T154437Z
UID:10000231-1743928200-1743933600@henryshomesanctuary.org
SUMMARY:Join 1\,000 Heroes: $25 monthly to Transform a Veteran’s Future.
DESCRIPTION:Join us for a meaningful evening as we launch the Patriot Plate at Texas Mesquite Grill on April 23\, 2026 at 6:00 PM. 								\n				\n									This special dinner marks the beginning of an ongoing partnership where every Patriot Plate sold helps support Henry’s Home\, making it easy to give back while enjoying a great meal. 								\n				\n									Gather your friends and family and join us for dinner as we celebrate this exciting initiative and support a great cause. 								\n				\n									We look forward to seeing you there! 								\n				\n										\n						\n									View Location Here
URL:https://henryshomesanctuary.org/event/join-1000-heroes-25-monthly-to-transform-a-veterans-future-2/2025-04-06/
CATEGORIES:Signature Events
ATTACH;FMTTYPE=image/jpeg:https://henryshomesanctuary.org/wp-content/uploads/2024/11/Join-1000-Heroes-25-monthly-to-Transform-a-Veterans-Future.jpg
ORGANIZER;CN="Darlene Gagnon":MAILTO:darlene@henryshomesanctuary.org
END:VEVENT
END:VCALENDAR