BEGIN:VCALENDAR
VERSION:2.0
PRODID:-//Henrys Home Sanctuary - ECPv6.15.13//NONSGML v1.0//EN
CALSCALE:GREGORIAN
METHOD:PUBLISH
X-WR-CALNAME:Henrys Home Sanctuary
X-ORIGINAL-URL:https://henryshomesanctuary.org
X-WR-CALDESC:Events for Henrys Home Sanctuary
REFRESH-INTERVAL;VALUE=DURATION:PT1H
X-Robots-Tag:noindex
X-PUBLISHED-TTL:PT1H
BEGIN:VTIMEZONE
TZID:America/Chicago
BEGIN:DAYLIGHT
TZOFFSETFROM:-0600
TZOFFSETTO:-0500
TZNAME:CDT
DTSTART:20240310T080000
END:DAYLIGHT
BEGIN:STANDARD
TZOFFSETFROM:-0500
TZOFFSETTO:-0600
TZNAME:CST
DTSTART:20241103T070000
END:STANDARD
BEGIN:DAYLIGHT
TZOFFSETFROM:-0600
TZOFFSETTO:-0500
TZNAME:CDT
DTSTART:20250309T080000
END:DAYLIGHT
BEGIN:STANDARD
TZOFFSETFROM:-0500
TZOFFSETTO:-0600
TZNAME:CST
DTSTART:20251102T070000
END:STANDARD
BEGIN:DAYLIGHT
TZOFFSETFROM:-0600
TZOFFSETTO:-0500
TZNAME:CDT
DTSTART:20260308T080000
END:DAYLIGHT
BEGIN:STANDARD
TZOFFSETFROM:-0500
TZOFFSETTO:-0600
TZNAME:CST
DTSTART:20261101T070000
END:STANDARD
END:VTIMEZONE
BEGIN:VEVENT
DTSTART;TZID=America/Chicago:20250510T083000
DTEND;TZID=America/Chicago:20250510T120000
DTSTAMP:20260423T161917
CREATED:20240722T085621Z
LAST-MODIFIED:20251013T135744Z
UID:10001405-1746865800-1746878400@henryshomesanctuary.org
SUMMARY:Self-Care Saturday - Registration Required
DESCRIPTION:Join us for a meaningful evening as we launch the Patriot Plate at Texas Mesquite Grill on April 23\, 2026 at 6:00 PM. 								\n				\n									This special dinner marks the beginning of an ongoing partnership where every Patriot Plate sold helps support Henry’s Home\, making it easy to give back while enjoying a great meal. 								\n				\n									Gather your friends and family and join us for dinner as we celebrate this exciting initiative and support a great cause. 								\n				\n									We look forward to seeing you there! 								\n				\n										\n						\n									View Location Here
URL:https://henryshomesanctuary.org/event/self-care-saturday-registration-required-event/2025-05-10/
LOCATION:14368 Perry Road\, Conroe Texas
ATTACH;FMTTYPE=image/jpeg:https://henryshomesanctuary.org/wp-content/uploads/2024/07/IMG_2406.jpg
END:VEVENT
BEGIN:VEVENT
DTSTART;TZID=America/Chicago:20250510T100000
DTEND;TZID=America/Chicago:20250510T140000
DTSTAMP:20260423T161917
CREATED:20250325T125511Z
LAST-MODIFIED:20250509T185150Z
UID:10000501-1746871200-1746885600@henryshomesanctuary.org
SUMMARY:The Woodlands Area Chamber of Commerce Wellness & Fitness Expo
DESCRIPTION:Join us for a meaningful evening as we launch the Patriot Plate at Texas Mesquite Grill on April 23\, 2026 at 6:00 PM. 								\n				\n									This special dinner marks the beginning of an ongoing partnership where every Patriot Plate sold helps support Henry’s Home\, making it easy to give back while enjoying a great meal. 								\n				\n									Gather your friends and family and join us for dinner as we celebrate this exciting initiative and support a great cause. 								\n				\n									We look forward to seeing you there! 								\n				\n										\n						\n									View Location Here
URL:https://henryshomesanctuary.org/event/the-woodlands-area-chamber-of-commerce-wellness-fitness-expo/
LOCATION:Rob Fleming Park\, 6055 Creekside Forest Drive\, The Woodlands
CATEGORIES:Signature Events
ATTACH;FMTTYPE=image/jpeg:https://henryshomesanctuary.org/wp-content/uploads/2025/03/The-Woodlands-Chamber-of-Commerce-Health-and-Wellness-Expo.jpg
END:VEVENT
END:VCALENDAR