BEGIN:VCALENDAR
VERSION:2.0
PRODID:-//Henrys Home Sanctuary - ECPv6.15.13//NONSGML v1.0//EN
CALSCALE:GREGORIAN
METHOD:PUBLISH
X-WR-CALNAME:Henrys Home Sanctuary
X-ORIGINAL-URL:https://henryshomesanctuary.org
X-WR-CALDESC:Events for Henrys Home Sanctuary
REFRESH-INTERVAL;VALUE=DURATION:PT1H
X-Robots-Tag:noindex
X-PUBLISHED-TTL:PT1H
BEGIN:VTIMEZONE
TZID:America/Chicago
BEGIN:DAYLIGHT
TZOFFSETFROM:-0600
TZOFFSETTO:-0500
TZNAME:CDT
DTSTART:20240310T080000
END:DAYLIGHT
BEGIN:STANDARD
TZOFFSETFROM:-0500
TZOFFSETTO:-0600
TZNAME:CST
DTSTART:20241103T070000
END:STANDARD
BEGIN:DAYLIGHT
TZOFFSETFROM:-0600
TZOFFSETTO:-0500
TZNAME:CDT
DTSTART:20250309T080000
END:DAYLIGHT
BEGIN:STANDARD
TZOFFSETFROM:-0500
TZOFFSETTO:-0600
TZNAME:CST
DTSTART:20251102T070000
END:STANDARD
BEGIN:DAYLIGHT
TZOFFSETFROM:-0600
TZOFFSETTO:-0500
TZNAME:CDT
DTSTART:20260308T080000
END:DAYLIGHT
BEGIN:STANDARD
TZOFFSETFROM:-0500
TZOFFSETTO:-0600
TZNAME:CST
DTSTART:20261101T070000
END:STANDARD
END:VTIMEZONE
BEGIN:VEVENT
DTSTART;TZID=America/Chicago:20250704T090000
DTEND;TZID=America/Chicago:20250704T110000
DTSTAMP:20260424T104450
CREATED:20250602T154814Z
LAST-MODIFIED:20250701T113407Z
UID:10001379-1751619600-1751626800@henryshomesanctuary.org
SUMMARY:49th Annual South County 4th of July Parade
DESCRIPTION:We are pleased to invite you to the Dover Saddlery Tent Sale on May 1st. This is an excellent opportunity to enjoy significant savings while supporting Henry’s Home and our equine programs. 								\n				\n									Special Opportunity for Henry’s Home Supporters 								\n				\n									Sign up today to receive a $25 quarterly discount to spend as you wish at the Dover Saddlery brick-and-mortar store in Houston. 								\n				\n									To participate:								\n				\n									Complete the simple Google sign-up form.When visiting the store\, please mention at checkout that you are from Henry’s Home and that Krista Venezia is your equine trainer.								\n				\n									This $25 discount may be used each quarter. A portion of your purchase will be returned to Henry’s Home as a contribution to our non-profit programs. By shopping in-store\, you help keep the Dover Saddlery location open and thriving—an important resource for our local equestrian community. 								\n				\n									Even in an era of convenient online ordering\, the Dover Saddlery store offers a unique experience. If you have not yet visited\, we highly recommend it. The knowledgeable staff\, extensive product selection\, and welcoming atmosphere make it well worth the trip. 								\n				\n									We look forward to seeing you at the Tent Sale on May 1st and appreciate your continued support of Henry’s Home. 								\n		\n				\n										\n						\n									Sign Up Here\n					\n					\n								\n				\n										\n						\n									Click for Location Directions
URL:https://henryshomesanctuary.org/event/49th-annual-south-county-4th-of-july-parade/
LOCATION:9595 Six Pines Drive\, The Woodlands\, TX
CATEGORIES:Signature Events
ATTACH;FMTTYPE=image/jpeg:https://henryshomesanctuary.org/wp-content/uploads/2025/06/Website-Calendar-of-Events-copy-6.jpg
END:VEVENT
BEGIN:VEVENT
DTSTART;TZID=America/Chicago:20250706T083000
DTEND;TZID=America/Chicago:20250706T100000
DTSTAMP:20260424T104450
CREATED:20241113T041524Z
LAST-MODIFIED:20251031T154437Z
UID:10000234-1751790600-1751796000@henryshomesanctuary.org
SUMMARY:Join 1\,000 Heroes: $25 monthly to Transform a Veteran’s Future.
DESCRIPTION:We are pleased to invite you to the Dover Saddlery Tent Sale on May 1st. This is an excellent opportunity to enjoy significant savings while supporting Henry’s Home and our equine programs. 								\n				\n									Special Opportunity for Henry’s Home Supporters 								\n				\n									Sign up today to receive a $25 quarterly discount to spend as you wish at the Dover Saddlery brick-and-mortar store in Houston. 								\n				\n									To participate:								\n				\n									Complete the simple Google sign-up form.When visiting the store\, please mention at checkout that you are from Henry’s Home and that Krista Venezia is your equine trainer.								\n				\n									This $25 discount may be used each quarter. A portion of your purchase will be returned to Henry’s Home as a contribution to our non-profit programs. By shopping in-store\, you help keep the Dover Saddlery location open and thriving—an important resource for our local equestrian community. 								\n				\n									Even in an era of convenient online ordering\, the Dover Saddlery store offers a unique experience. If you have not yet visited\, we highly recommend it. The knowledgeable staff\, extensive product selection\, and welcoming atmosphere make it well worth the trip. 								\n				\n									We look forward to seeing you at the Tent Sale on May 1st and appreciate your continued support of Henry’s Home. 								\n		\n				\n										\n						\n									Sign Up Here\n					\n					\n								\n				\n										\n						\n									Click for Location Directions
URL:https://henryshomesanctuary.org/event/join-1000-heroes-25-monthly-to-transform-a-veterans-future-2/2025-07-06/
CATEGORIES:Signature Events
ATTACH;FMTTYPE=image/jpeg:https://henryshomesanctuary.org/wp-content/uploads/2024/11/Join-1000-Heroes-25-monthly-to-Transform-a-Veterans-Future.jpg
ORGANIZER;CN="Darlene Gagnon":MAILTO:darlene@henryshomesanctuary.org
END:VEVENT
BEGIN:VEVENT
DTSTART;TZID=America/Chicago:20250715T080000
DTEND;TZID=America/Chicago:20250715T170000
DTSTAMP:20260424T104450
CREATED:20250604T125823Z
LAST-MODIFIED:20250604T130015Z
UID:10001380-1752566400-1752598800@henryshomesanctuary.org
SUMMARY:Mental Health First Aid
DESCRIPTION:We are pleased to invite you to the Dover Saddlery Tent Sale on May 1st. This is an excellent opportunity to enjoy significant savings while supporting Henry’s Home and our equine programs. 								\n				\n									Special Opportunity for Henry’s Home Supporters 								\n				\n									Sign up today to receive a $25 quarterly discount to spend as you wish at the Dover Saddlery brick-and-mortar store in Houston. 								\n				\n									To participate:								\n				\n									Complete the simple Google sign-up form.When visiting the store\, please mention at checkout that you are from Henry’s Home and that Krista Venezia is your equine trainer.								\n				\n									This $25 discount may be used each quarter. A portion of your purchase will be returned to Henry’s Home as a contribution to our non-profit programs. By shopping in-store\, you help keep the Dover Saddlery location open and thriving—an important resource for our local equestrian community. 								\n				\n									Even in an era of convenient online ordering\, the Dover Saddlery store offers a unique experience. If you have not yet visited\, we highly recommend it. The knowledgeable staff\, extensive product selection\, and welcoming atmosphere make it well worth the trip. 								\n				\n									We look forward to seeing you at the Tent Sale on May 1st and appreciate your continued support of Henry’s Home. 								\n		\n				\n										\n						\n									Sign Up Here\n					\n					\n								\n				\n										\n						\n									Click for Location Directions
URL:https://henryshomesanctuary.org/event/mental-health-first-aid/
LOCATION:14638 Perry Road Conroe\, Texas 77302
ATTACH;FMTTYPE=image/jpeg:https://henryshomesanctuary.org/wp-content/uploads/2025/06/Website-Calendar-of-Events-copy-1.jpg
END:VEVENT
BEGIN:VEVENT
DTSTART;TZID=America/Chicago:20250721T110000
DTEND;TZID=America/Chicago:20250721T130000
DTSTAMP:20260424T104450
CREATED:20250625T145251Z
LAST-MODIFIED:20250626T134234Z
UID:10001383-1753095600-1753102800@henryshomesanctuary.org
SUMMARY:Exclusive Tour of the Houston Police Department Mounted Patrol Facility
DESCRIPTION:We are pleased to invite you to the Dover Saddlery Tent Sale on May 1st. This is an excellent opportunity to enjoy significant savings while supporting Henry’s Home and our equine programs. 								\n				\n									Special Opportunity for Henry’s Home Supporters 								\n				\n									Sign up today to receive a $25 quarterly discount to spend as you wish at the Dover Saddlery brick-and-mortar store in Houston. 								\n				\n									To participate:								\n				\n									Complete the simple Google sign-up form.When visiting the store\, please mention at checkout that you are from Henry’s Home and that Krista Venezia is your equine trainer.								\n				\n									This $25 discount may be used each quarter. A portion of your purchase will be returned to Henry’s Home as a contribution to our non-profit programs. By shopping in-store\, you help keep the Dover Saddlery location open and thriving—an important resource for our local equestrian community. 								\n				\n									Even in an era of convenient online ordering\, the Dover Saddlery store offers a unique experience. If you have not yet visited\, we highly recommend it. The knowledgeable staff\, extensive product selection\, and welcoming atmosphere make it well worth the trip. 								\n				\n									We look forward to seeing you at the Tent Sale on May 1st and appreciate your continued support of Henry’s Home. 								\n		\n				\n										\n						\n									Sign Up Here\n					\n					\n								\n				\n										\n						\n									Click for Location Directions
URL:https://henryshomesanctuary.org/event/exclusive-tour-of-the-houston-police-department-mounted-patrol-facility/
LOCATION:Houston Police Department Mounted Patrol Facility\, 5005 Little York Rd\, Houston\, TX 77016-2547
CATEGORIES:Signature Events
ATTACH;FMTTYPE=image/jpeg:https://henryshomesanctuary.org/wp-content/uploads/2025/06/Website-Event-Banner-Volunteers-1.jpg
END:VEVENT
BEGIN:VEVENT
DTSTART;TZID=America/Chicago:20250722T110000
DTEND;TZID=America/Chicago:20250722T130000
DTSTAMP:20260424T104450
CREATED:20250626T133635Z
LAST-MODIFIED:20250626T134130Z
UID:10001384-1753182000-1753189200@henryshomesanctuary.org
SUMMARY:Veterans & Retired First Responders: Join Our Exclusive Tour of the Houston Police Mounted Patrol Facility
DESCRIPTION:We are pleased to invite you to the Dover Saddlery Tent Sale on May 1st. This is an excellent opportunity to enjoy significant savings while supporting Henry’s Home and our equine programs. 								\n				\n									Special Opportunity for Henry’s Home Supporters 								\n				\n									Sign up today to receive a $25 quarterly discount to spend as you wish at the Dover Saddlery brick-and-mortar store in Houston. 								\n				\n									To participate:								\n				\n									Complete the simple Google sign-up form.When visiting the store\, please mention at checkout that you are from Henry’s Home and that Krista Venezia is your equine trainer.								\n				\n									This $25 discount may be used each quarter. A portion of your purchase will be returned to Henry’s Home as a contribution to our non-profit programs. By shopping in-store\, you help keep the Dover Saddlery location open and thriving—an important resource for our local equestrian community. 								\n				\n									Even in an era of convenient online ordering\, the Dover Saddlery store offers a unique experience. If you have not yet visited\, we highly recommend it. The knowledgeable staff\, extensive product selection\, and welcoming atmosphere make it well worth the trip. 								\n				\n									We look forward to seeing you at the Tent Sale on May 1st and appreciate your continued support of Henry’s Home. 								\n		\n				\n										\n						\n									Sign Up Here\n					\n					\n								\n				\n										\n						\n									Click for Location Directions
URL:https://henryshomesanctuary.org/event/veterans-retired-first-responders-join-our-exclusive-tour-of-the-houston-police-mounted-patrol-facility/
LOCATION:Houston Police Department Mounted Patrol Facility\, 5005 Little York Rd\, Houston\, TX 77016-2547
CATEGORIES:Signature Events
ATTACH;FMTTYPE=image/jpeg:https://henryshomesanctuary.org/wp-content/uploads/2025/06/Exclusive-Tour-of-the-Houston-Police-Department-Mounted-Patrol-Facility.jpg
END:VEVENT
END:VCALENDAR