BEGIN:VCALENDAR
VERSION:2.0
PRODID:-//Henrys Home Sanctuary - ECPv6.15.13//NONSGML v1.0//EN
CALSCALE:GREGORIAN
METHOD:PUBLISH
X-WR-CALNAME:Henrys Home Sanctuary
X-ORIGINAL-URL:https://henryshomesanctuary.org
X-WR-CALDESC:Events for Henrys Home Sanctuary
REFRESH-INTERVAL;VALUE=DURATION:PT1H
X-Robots-Tag:noindex
X-PUBLISHED-TTL:PT1H
BEGIN:VTIMEZONE
TZID:America/Chicago
BEGIN:DAYLIGHT
TZOFFSETFROM:-0600
TZOFFSETTO:-0500
TZNAME:CDT
DTSTART:20240310T080000
END:DAYLIGHT
BEGIN:STANDARD
TZOFFSETFROM:-0500
TZOFFSETTO:-0600
TZNAME:CST
DTSTART:20241103T070000
END:STANDARD
BEGIN:DAYLIGHT
TZOFFSETFROM:-0600
TZOFFSETTO:-0500
TZNAME:CDT
DTSTART:20250309T080000
END:DAYLIGHT
BEGIN:STANDARD
TZOFFSETFROM:-0500
TZOFFSETTO:-0600
TZNAME:CST
DTSTART:20251102T070000
END:STANDARD
BEGIN:DAYLIGHT
TZOFFSETFROM:-0600
TZOFFSETTO:-0500
TZNAME:CDT
DTSTART:20260308T080000
END:DAYLIGHT
BEGIN:STANDARD
TZOFFSETFROM:-0500
TZOFFSETTO:-0600
TZNAME:CST
DTSTART:20261101T070000
END:STANDARD
END:VTIMEZONE
BEGIN:VEVENT
DTSTART;TZID=America/Chicago:20251004T083000
DTEND;TZID=America/Chicago:20251004T120000
DTSTAMP:20260424T142544
CREATED:20240722T085621Z
LAST-MODIFIED:20251013T135744Z
UID:10001410-1759566600-1759579200@henryshomesanctuary.org
SUMMARY:Self-Care Saturday - Registration Required
DESCRIPTION:We are pleased to invite you to the Dover Saddlery Tent Sale on May 1st. This is an excellent opportunity to enjoy significant savings while supporting Henry’s Home and our equine programs. 								\n				\n									Special Opportunity for Henry’s Home Supporters 								\n				\n									Sign up today to receive a $25 quarterly discount to spend as you wish at the Dover Saddlery brick-and-mortar store in Houston. 								\n				\n									To participate:								\n				\n									Complete the simple Google sign-up form.When visiting the store\, please mention at checkout that you are from Henry’s Home and that Krista Venezia is your equine trainer.								\n				\n									This $25 discount may be used each quarter. A portion of your purchase will be returned to Henry’s Home as a contribution to our non-profit programs. By shopping in-store\, you help keep the Dover Saddlery location open and thriving—an important resource for our local equestrian community. 								\n				\n									Even in an era of convenient online ordering\, the Dover Saddlery store offers a unique experience. If you have not yet visited\, we highly recommend it. The knowledgeable staff\, extensive product selection\, and welcoming atmosphere make it well worth the trip. 								\n				\n									We look forward to seeing you at the Tent Sale on May 1st and appreciate your continued support of Henry’s Home. 								\n		\n				\n										\n						\n									Sign Up Here\n					\n					\n								\n				\n										\n						\n									Click for Location Directions
URL:https://henryshomesanctuary.org/event/self-care-saturday-registration-required-event/2025-10-04/
LOCATION:14368 Perry Road\, Conroe Texas
ATTACH;FMTTYPE=image/jpeg:https://henryshomesanctuary.org/wp-content/uploads/2024/07/IMG_2406.jpg
END:VEVENT
BEGIN:VEVENT
DTSTART;TZID=America/Chicago:20251005T083000
DTEND;TZID=America/Chicago:20251005T100000
DTSTAMP:20260424T142544
CREATED:20241113T041524Z
LAST-MODIFIED:20251031T154437Z
UID:10000237-1759653000-1759658400@henryshomesanctuary.org
SUMMARY:Join 1\,000 Heroes: $25 monthly to Transform a Veteran’s Future.
DESCRIPTION:We are pleased to invite you to the Dover Saddlery Tent Sale on May 1st. This is an excellent opportunity to enjoy significant savings while supporting Henry’s Home and our equine programs. 								\n				\n									Special Opportunity for Henry’s Home Supporters 								\n				\n									Sign up today to receive a $25 quarterly discount to spend as you wish at the Dover Saddlery brick-and-mortar store in Houston. 								\n				\n									To participate:								\n				\n									Complete the simple Google sign-up form.When visiting the store\, please mention at checkout that you are from Henry’s Home and that Krista Venezia is your equine trainer.								\n				\n									This $25 discount may be used each quarter. A portion of your purchase will be returned to Henry’s Home as a contribution to our non-profit programs. By shopping in-store\, you help keep the Dover Saddlery location open and thriving—an important resource for our local equestrian community. 								\n				\n									Even in an era of convenient online ordering\, the Dover Saddlery store offers a unique experience. If you have not yet visited\, we highly recommend it. The knowledgeable staff\, extensive product selection\, and welcoming atmosphere make it well worth the trip. 								\n				\n									We look forward to seeing you at the Tent Sale on May 1st and appreciate your continued support of Henry’s Home. 								\n		\n				\n										\n						\n									Sign Up Here\n					\n					\n								\n				\n										\n						\n									Click for Location Directions
URL:https://henryshomesanctuary.org/event/join-1000-heroes-25-monthly-to-transform-a-veterans-future-2/2025-10-05/
CATEGORIES:Signature Events
ATTACH;FMTTYPE=image/jpeg:https://henryshomesanctuary.org/wp-content/uploads/2024/11/Join-1000-Heroes-25-monthly-to-Transform-a-Veterans-Future.jpg
ORGANIZER;CN="Darlene Gagnon":MAILTO:darlene@henryshomesanctuary.org
END:VEVENT
BEGIN:VEVENT
DTSTART;TZID=America/Chicago:20251011T083000
DTEND;TZID=America/Chicago:20251011T120000
DTSTAMP:20260424T142544
CREATED:20240722T085621Z
LAST-MODIFIED:20251013T135744Z
UID:10001411-1760171400-1760184000@henryshomesanctuary.org
SUMMARY:Self-Care Saturday - Registration Required
DESCRIPTION:We are pleased to invite you to the Dover Saddlery Tent Sale on May 1st. This is an excellent opportunity to enjoy significant savings while supporting Henry’s Home and our equine programs. 								\n				\n									Special Opportunity for Henry’s Home Supporters 								\n				\n									Sign up today to receive a $25 quarterly discount to spend as you wish at the Dover Saddlery brick-and-mortar store in Houston. 								\n				\n									To participate:								\n				\n									Complete the simple Google sign-up form.When visiting the store\, please mention at checkout that you are from Henry’s Home and that Krista Venezia is your equine trainer.								\n				\n									This $25 discount may be used each quarter. A portion of your purchase will be returned to Henry’s Home as a contribution to our non-profit programs. By shopping in-store\, you help keep the Dover Saddlery location open and thriving—an important resource for our local equestrian community. 								\n				\n									Even in an era of convenient online ordering\, the Dover Saddlery store offers a unique experience. If you have not yet visited\, we highly recommend it. The knowledgeable staff\, extensive product selection\, and welcoming atmosphere make it well worth the trip. 								\n				\n									We look forward to seeing you at the Tent Sale on May 1st and appreciate your continued support of Henry’s Home. 								\n		\n				\n										\n						\n									Sign Up Here\n					\n					\n								\n				\n										\n						\n									Click for Location Directions
URL:https://henryshomesanctuary.org/event/self-care-saturday-registration-required-event/2025-10-11/
LOCATION:14368 Perry Road\, Conroe Texas
ATTACH;FMTTYPE=image/jpeg:https://henryshomesanctuary.org/wp-content/uploads/2024/07/IMG_2406.jpg
END:VEVENT
BEGIN:VEVENT
DTSTART;TZID=America/Chicago:20251011T133000
DTEND;TZID=America/Chicago:20251011T150000
DTSTAMP:20260424T142544
CREATED:20250917T115617Z
LAST-MODIFIED:20250917T115929Z
UID:10001392-1760189400-1760194800@henryshomesanctuary.org
SUMMARY:New Volunteer Orientation
DESCRIPTION:We are pleased to invite you to the Dover Saddlery Tent Sale on May 1st. This is an excellent opportunity to enjoy significant savings while supporting Henry’s Home and our equine programs. 								\n				\n									Special Opportunity for Henry’s Home Supporters 								\n				\n									Sign up today to receive a $25 quarterly discount to spend as you wish at the Dover Saddlery brick-and-mortar store in Houston. 								\n				\n									To participate:								\n				\n									Complete the simple Google sign-up form.When visiting the store\, please mention at checkout that you are from Henry’s Home and that Krista Venezia is your equine trainer.								\n				\n									This $25 discount may be used each quarter. A portion of your purchase will be returned to Henry’s Home as a contribution to our non-profit programs. By shopping in-store\, you help keep the Dover Saddlery location open and thriving—an important resource for our local equestrian community. 								\n				\n									Even in an era of convenient online ordering\, the Dover Saddlery store offers a unique experience. If you have not yet visited\, we highly recommend it. The knowledgeable staff\, extensive product selection\, and welcoming atmosphere make it well worth the trip. 								\n				\n									We look forward to seeing you at the Tent Sale on May 1st and appreciate your continued support of Henry’s Home. 								\n		\n				\n										\n						\n									Sign Up Here\n					\n					\n								\n				\n										\n						\n									Click for Location Directions
URL:https://henryshomesanctuary.org/event/new-volunteer-orientation/
LOCATION:14638 Perry Road Conroe\, Texas 77302
ATTACH;FMTTYPE=image/png:https://henryshomesanctuary.org/wp-content/uploads/2025/09/NEW-VOLUNTEER-ORIENTATION-Event-Graphics.png
END:VEVENT
BEGIN:VEVENT
DTSTART;TZID=America/Chicago:20251014T130000
DTEND;TZID=America/Chicago:20251014T150000
DTSTAMP:20260424T142544
CREATED:20250513T131331Z
LAST-MODIFIED:20250513T140151Z
UID:10001375-1760446800-1760454000@henryshomesanctuary.org
SUMMARY:Equine Volunteer Training - Biomechanics
DESCRIPTION:We are pleased to invite you to the Dover Saddlery Tent Sale on May 1st. This is an excellent opportunity to enjoy significant savings while supporting Henry’s Home and our equine programs. 								\n				\n									Special Opportunity for Henry’s Home Supporters 								\n				\n									Sign up today to receive a $25 quarterly discount to spend as you wish at the Dover Saddlery brick-and-mortar store in Houston. 								\n				\n									To participate:								\n				\n									Complete the simple Google sign-up form.When visiting the store\, please mention at checkout that you are from Henry’s Home and that Krista Venezia is your equine trainer.								\n				\n									This $25 discount may be used each quarter. A portion of your purchase will be returned to Henry’s Home as a contribution to our non-profit programs. By shopping in-store\, you help keep the Dover Saddlery location open and thriving—an important resource for our local equestrian community. 								\n				\n									Even in an era of convenient online ordering\, the Dover Saddlery store offers a unique experience. If you have not yet visited\, we highly recommend it. The knowledgeable staff\, extensive product selection\, and welcoming atmosphere make it well worth the trip. 								\n				\n									We look forward to seeing you at the Tent Sale on May 1st and appreciate your continued support of Henry’s Home. 								\n		\n				\n										\n						\n									Sign Up Here\n					\n					\n								\n				\n										\n						\n									Click for Location Directions
URL:https://henryshomesanctuary.org/event/equine-volunteer-training-biomechanics/
LOCATION:14638 Perry Road\, Conroe\, TX 77302
ATTACH;FMTTYPE=image/png:https://henryshomesanctuary.org/wp-content/uploads/2025/05/Equine-Volunteer-Training-Biomechanics.png
END:VEVENT
BEGIN:VEVENT
DTSTART;TZID=America/Chicago:20251014T130000
DTEND;TZID=America/Chicago:20251014T150000
DTSTAMP:20260424T142544
CREATED:20250513T131837Z
LAST-MODIFIED:20250513T140224Z
UID:10001376-1760446800-1760454000@henryshomesanctuary.org
SUMMARY:Equine Volunteer Training - Why the Zones? Where Are The Buttons?
DESCRIPTION:We are pleased to invite you to the Dover Saddlery Tent Sale on May 1st. This is an excellent opportunity to enjoy significant savings while supporting Henry’s Home and our equine programs. 								\n				\n									Special Opportunity for Henry’s Home Supporters 								\n				\n									Sign up today to receive a $25 quarterly discount to spend as you wish at the Dover Saddlery brick-and-mortar store in Houston. 								\n				\n									To participate:								\n				\n									Complete the simple Google sign-up form.When visiting the store\, please mention at checkout that you are from Henry’s Home and that Krista Venezia is your equine trainer.								\n				\n									This $25 discount may be used each quarter. A portion of your purchase will be returned to Henry’s Home as a contribution to our non-profit programs. By shopping in-store\, you help keep the Dover Saddlery location open and thriving—an important resource for our local equestrian community. 								\n				\n									Even in an era of convenient online ordering\, the Dover Saddlery store offers a unique experience. If you have not yet visited\, we highly recommend it. The knowledgeable staff\, extensive product selection\, and welcoming atmosphere make it well worth the trip. 								\n				\n									We look forward to seeing you at the Tent Sale on May 1st and appreciate your continued support of Henry’s Home. 								\n		\n				\n										\n						\n									Sign Up Here\n					\n					\n								\n				\n										\n						\n									Click for Location Directions
URL:https://henryshomesanctuary.org/event/equine-volunteer-training-why-the-zones-where-are-the-buttons/
LOCATION:14638 Perry Road\, Conroe\, TX 77302
ATTACH;FMTTYPE=image/png:https://henryshomesanctuary.org/wp-content/uploads/2025/05/Equine-Volunteer-Training-Why-the-Zones-Where-Are-The-Buttons.png
END:VEVENT
BEGIN:VEVENT
DTSTART;TZID=America/Chicago:20251014T180000
DTEND;TZID=America/Chicago:20251014T190000
DTSTAMP:20260424T142544
CREATED:20250912T121810Z
LAST-MODIFIED:20250912T122016Z
UID:10001391-1760464800-1760468400@henryshomesanctuary.org
SUMMARY:Flowers on the Lake
DESCRIPTION:We are pleased to invite you to the Dover Saddlery Tent Sale on May 1st. This is an excellent opportunity to enjoy significant savings while supporting Henry’s Home and our equine programs. 								\n				\n									Special Opportunity for Henry’s Home Supporters 								\n				\n									Sign up today to receive a $25 quarterly discount to spend as you wish at the Dover Saddlery brick-and-mortar store in Houston. 								\n				\n									To participate:								\n				\n									Complete the simple Google sign-up form.When visiting the store\, please mention at checkout that you are from Henry’s Home and that Krista Venezia is your equine trainer.								\n				\n									This $25 discount may be used each quarter. A portion of your purchase will be returned to Henry’s Home as a contribution to our non-profit programs. By shopping in-store\, you help keep the Dover Saddlery location open and thriving—an important resource for our local equestrian community. 								\n				\n									Even in an era of convenient online ordering\, the Dover Saddlery store offers a unique experience. If you have not yet visited\, we highly recommend it. The knowledgeable staff\, extensive product selection\, and welcoming atmosphere make it well worth the trip. 								\n				\n									We look forward to seeing you at the Tent Sale on May 1st and appreciate your continued support of Henry’s Home. 								\n		\n				\n										\n						\n									Sign Up Here\n					\n					\n								\n				\n										\n						\n									Click for Location Directions
URL:https://henryshomesanctuary.org/event/flowers-on-the-lake/
LOCATION:Montgomery County Veterans Memorial Park
ATTACH;FMTTYPE=image/jpeg:https://henryshomesanctuary.org/wp-content/uploads/2025/09/Flowers-on-the-Lake.jpg
END:VEVENT
BEGIN:VEVENT
DTSTART;TZID=America/Chicago:20251018T083000
DTEND;TZID=America/Chicago:20251018T120000
DTSTAMP:20260424T142544
CREATED:20240722T085621Z
LAST-MODIFIED:20251013T135744Z
UID:10001412-1760776200-1760788800@henryshomesanctuary.org
SUMMARY:Self-Care Saturday - Registration Required
DESCRIPTION:We are pleased to invite you to the Dover Saddlery Tent Sale on May 1st. This is an excellent opportunity to enjoy significant savings while supporting Henry’s Home and our equine programs. 								\n				\n									Special Opportunity for Henry’s Home Supporters 								\n				\n									Sign up today to receive a $25 quarterly discount to spend as you wish at the Dover Saddlery brick-and-mortar store in Houston. 								\n				\n									To participate:								\n				\n									Complete the simple Google sign-up form.When visiting the store\, please mention at checkout that you are from Henry’s Home and that Krista Venezia is your equine trainer.								\n				\n									This $25 discount may be used each quarter. A portion of your purchase will be returned to Henry’s Home as a contribution to our non-profit programs. By shopping in-store\, you help keep the Dover Saddlery location open and thriving—an important resource for our local equestrian community. 								\n				\n									Even in an era of convenient online ordering\, the Dover Saddlery store offers a unique experience. If you have not yet visited\, we highly recommend it. The knowledgeable staff\, extensive product selection\, and welcoming atmosphere make it well worth the trip. 								\n				\n									We look forward to seeing you at the Tent Sale on May 1st and appreciate your continued support of Henry’s Home. 								\n		\n				\n										\n						\n									Sign Up Here\n					\n					\n								\n				\n										\n						\n									Click for Location Directions
URL:https://henryshomesanctuary.org/event/self-care-saturday-registration-required-event/2025-10-18/
LOCATION:14368 Perry Road\, Conroe Texas
ATTACH;FMTTYPE=image/jpeg:https://henryshomesanctuary.org/wp-content/uploads/2024/07/IMG_2406.jpg
END:VEVENT
BEGIN:VEVENT
DTSTART;TZID=America/Chicago:20251018T100000
DTEND;TZID=America/Chicago:20251018T150000
DTSTAMP:20260424T142544
CREATED:20250901T151850Z
LAST-MODIFIED:20250901T152424Z
UID:10001389-1760781600-1760799600@henryshomesanctuary.org
SUMMARY:Veterans Resource Fair
DESCRIPTION:We are pleased to invite you to the Dover Saddlery Tent Sale on May 1st. This is an excellent opportunity to enjoy significant savings while supporting Henry’s Home and our equine programs. 								\n				\n									Special Opportunity for Henry’s Home Supporters 								\n				\n									Sign up today to receive a $25 quarterly discount to spend as you wish at the Dover Saddlery brick-and-mortar store in Houston. 								\n				\n									To participate:								\n				\n									Complete the simple Google sign-up form.When visiting the store\, please mention at checkout that you are from Henry’s Home and that Krista Venezia is your equine trainer.								\n				\n									This $25 discount may be used each quarter. A portion of your purchase will be returned to Henry’s Home as a contribution to our non-profit programs. By shopping in-store\, you help keep the Dover Saddlery location open and thriving—an important resource for our local equestrian community. 								\n				\n									Even in an era of convenient online ordering\, the Dover Saddlery store offers a unique experience. If you have not yet visited\, we highly recommend it. The knowledgeable staff\, extensive product selection\, and welcoming atmosphere make it well worth the trip. 								\n				\n									We look forward to seeing you at the Tent Sale on May 1st and appreciate your continued support of Henry’s Home. 								\n		\n				\n										\n						\n									Sign Up Here\n					\n					\n								\n				\n										\n						\n									Click for Location Directions
URL:https://henryshomesanctuary.org/event/veterans-resourcefair/
LOCATION:The American Legion Post 618\, 13054 FM 1097 Willis\, TX 77378
ATTACH;FMTTYPE=image/jpeg:https://henryshomesanctuary.org/wp-content/uploads/2025/09/Veteran-Resource-Fair.jpg
END:VEVENT
BEGIN:VEVENT
DTSTART;TZID=America/Chicago:20251025T083000
DTEND;TZID=America/Chicago:20251025T120000
DTSTAMP:20260424T142544
CREATED:20240722T085621Z
LAST-MODIFIED:20251013T135744Z
UID:10001413-1761381000-1761393600@henryshomesanctuary.org
SUMMARY:Self-Care Saturday - Registration Required
DESCRIPTION:We are pleased to invite you to the Dover Saddlery Tent Sale on May 1st. This is an excellent opportunity to enjoy significant savings while supporting Henry’s Home and our equine programs. 								\n				\n									Special Opportunity for Henry’s Home Supporters 								\n				\n									Sign up today to receive a $25 quarterly discount to spend as you wish at the Dover Saddlery brick-and-mortar store in Houston. 								\n				\n									To participate:								\n				\n									Complete the simple Google sign-up form.When visiting the store\, please mention at checkout that you are from Henry’s Home and that Krista Venezia is your equine trainer.								\n				\n									This $25 discount may be used each quarter. A portion of your purchase will be returned to Henry’s Home as a contribution to our non-profit programs. By shopping in-store\, you help keep the Dover Saddlery location open and thriving—an important resource for our local equestrian community. 								\n				\n									Even in an era of convenient online ordering\, the Dover Saddlery store offers a unique experience. If you have not yet visited\, we highly recommend it. The knowledgeable staff\, extensive product selection\, and welcoming atmosphere make it well worth the trip. 								\n				\n									We look forward to seeing you at the Tent Sale on May 1st and appreciate your continued support of Henry’s Home. 								\n		\n				\n										\n						\n									Sign Up Here\n					\n					\n								\n				\n										\n						\n									Click for Location Directions
URL:https://henryshomesanctuary.org/event/self-care-saturday-registration-required-event/2025-10-25/
LOCATION:14368 Perry Road\, Conroe Texas
ATTACH;FMTTYPE=image/jpeg:https://henryshomesanctuary.org/wp-content/uploads/2024/07/IMG_2406.jpg
END:VEVENT
END:VCALENDAR