BEGIN:VCALENDAR
VERSION:2.0
PRODID:-//Henrys Home Sanctuary - ECPv6.15.13//NONSGML v1.0//EN
CALSCALE:GREGORIAN
METHOD:PUBLISH
X-WR-CALNAME:Henrys Home Sanctuary
X-ORIGINAL-URL:https://henryshomesanctuary.org
X-WR-CALDESC:Events for Henrys Home Sanctuary
REFRESH-INTERVAL;VALUE=DURATION:PT1H
X-Robots-Tag:noindex
X-PUBLISHED-TTL:PT1H
BEGIN:VTIMEZONE
TZID:America/Chicago
BEGIN:DAYLIGHT
TZOFFSETFROM:-0600
TZOFFSETTO:-0500
TZNAME:CDT
DTSTART:20230312T080000
END:DAYLIGHT
BEGIN:STANDARD
TZOFFSETFROM:-0500
TZOFFSETTO:-0600
TZNAME:CST
DTSTART:20231105T070000
END:STANDARD
BEGIN:DAYLIGHT
TZOFFSETFROM:-0600
TZOFFSETTO:-0500
TZNAME:CDT
DTSTART:20240310T080000
END:DAYLIGHT
BEGIN:STANDARD
TZOFFSETFROM:-0500
TZOFFSETTO:-0600
TZNAME:CST
DTSTART:20241103T070000
END:STANDARD
BEGIN:DAYLIGHT
TZOFFSETFROM:-0600
TZOFFSETTO:-0500
TZNAME:CDT
DTSTART:20250309T080000
END:DAYLIGHT
BEGIN:STANDARD
TZOFFSETFROM:-0500
TZOFFSETTO:-0600
TZNAME:CST
DTSTART:20251102T070000
END:STANDARD
END:VTIMEZONE
BEGIN:VEVENT
DTSTART;TZID=America/Chicago:20241105T133000
DTEND;TZID=America/Chicago:20241105T143000
DTSTAMP:20260425T052850
CREATED:20241025T174516Z
LAST-MODIFIED:20250210T112536Z
UID:10000035-1730813400-1730817000@henryshomesanctuary.org
SUMMARY:Essential Oil Education with Kathy Phillips - Registration Required
DESCRIPTION:This is our favorite way to say THANK YOU to the incredible volunteers who make everything possible at Henry’s Home. 								\n				\n									Join us for a festive Thanksgiving Potluck! Bring a favorite dish to share\, enjoy great food and conversation\, and celebrate everything we’ve accomplished together this year. 								\n				\n									It’s a time to relax\, reconnect\, and give thanks in the company of the horses and people who make this sanctuary so special. 								\n		\n				\n										\n						\n									Volunteer Registration \n					\n					\n								\n				\n										\n						\n									Veterans & Retired First Responders Registration COMING SOON
URL:https://henryshomesanctuary.org/event/essential-oil-education-with-kathy-phillips-registration-required/
LOCATION:14368 Perry Road\, Conroe Texas
ATTACH;FMTTYPE=image/png:https://henryshomesanctuary.org/wp-content/uploads/2024/10/Essential-Oil-Education-with-Kathy-Phillips.png
END:VEVENT
BEGIN:VEVENT
DTSTART;TZID=America/Chicago:20241102T100000
DTEND;TZID=America/Chicago:20241102T120000
DTSTAMP:20260425T052851
CREATED:20240722T085551Z
LAST-MODIFIED:20250210T112712Z
UID:10000028-1730541600-1730548800@henryshomesanctuary.org
SUMMARY:Self-Care Saturday - Registration Required
DESCRIPTION:This is our favorite way to say THANK YOU to the incredible volunteers who make everything possible at Henry’s Home. 								\n				\n									Join us for a festive Thanksgiving Potluck! Bring a favorite dish to share\, enjoy great food and conversation\, and celebrate everything we’ve accomplished together this year. 								\n				\n									It’s a time to relax\, reconnect\, and give thanks in the company of the horses and people who make this sanctuary so special. 								\n		\n				\n										\n						\n									Volunteer Registration \n					\n					\n								\n				\n										\n						\n									Veterans & Retired First Responders Registration COMING SOON
URL:https://henryshomesanctuary.org/event/self-care-saturday-registration-required-november-2nd/
LOCATION:14368 Perry Road\, Conroe Texas
ATTACH;FMTTYPE=image/jpeg:https://henryshomesanctuary.org/wp-content/uploads/2024/06/Self-Care-Satruday-1.jpg
END:VEVENT
BEGIN:VEVENT
DTSTART;TZID=America/Chicago:20241030T160000
DTEND;TZID=America/Chicago:20241030T180000
DTSTAMP:20260425T052851
CREATED:20241016T172838Z
LAST-MODIFIED:20250210T112719Z
UID:10000034-1730304000-1730311200@henryshomesanctuary.org
SUMMARY:Fall 2024 New Volunteer Orientation
DESCRIPTION:This is our favorite way to say THANK YOU to the incredible volunteers who make everything possible at Henry’s Home. 								\n				\n									Join us for a festive Thanksgiving Potluck! Bring a favorite dish to share\, enjoy great food and conversation\, and celebrate everything we’ve accomplished together this year. 								\n				\n									It’s a time to relax\, reconnect\, and give thanks in the company of the horses and people who make this sanctuary so special. 								\n		\n				\n										\n						\n									Volunteer Registration \n					\n					\n								\n				\n										\n						\n									Veterans & Retired First Responders Registration COMING SOON
URL:https://henryshomesanctuary.org/event/fall-2024-new-volunteer-orientation/
LOCATION:14368 Perry Road\, Conroe Texas
ATTACH;FMTTYPE=image/jpeg:https://henryshomesanctuary.org/wp-content/uploads/2024/10/HH-Website-Event.jpg
END:VEVENT
BEGIN:VEVENT
DTSTART;TZID=America/Chicago:20241019T100000
DTEND;TZID=America/Chicago:20241019T120000
DTSTAMP:20260425T052851
CREATED:20240722T085253Z
LAST-MODIFIED:20250210T112721Z
UID:10000026-1729332000-1729339200@henryshomesanctuary.org
SUMMARY:Self-Care Saturday - Registration Required
DESCRIPTION:This is our favorite way to say THANK YOU to the incredible volunteers who make everything possible at Henry’s Home. 								\n				\n									Join us for a festive Thanksgiving Potluck! Bring a favorite dish to share\, enjoy great food and conversation\, and celebrate everything we’ve accomplished together this year. 								\n				\n									It’s a time to relax\, reconnect\, and give thanks in the company of the horses and people who make this sanctuary so special. 								\n		\n				\n										\n						\n									Volunteer Registration \n					\n					\n								\n				\n										\n						\n									Veterans & Retired First Responders Registration COMING SOON
URL:https://henryshomesanctuary.org/event/self-care-saturday-registration-required-october-19th/
LOCATION:14368 Perry Road\, Conroe Texas
ATTACH;FMTTYPE=image/jpeg:https://henryshomesanctuary.org/wp-content/uploads/2024/06/Self-Care-Satruday-1.jpg
END:VEVENT
BEGIN:VEVENT
DTSTART;TZID=America/Chicago:20241012T100000
DTEND;TZID=America/Chicago:20241012T120000
DTSTAMP:20260425T052851
CREATED:20240722T085216Z
LAST-MODIFIED:20250210T112727Z
UID:10000025-1728727200-1728734400@henryshomesanctuary.org
SUMMARY:Self-Care Saturday - Registration Required
DESCRIPTION:This is our favorite way to say THANK YOU to the incredible volunteers who make everything possible at Henry’s Home. 								\n				\n									Join us for a festive Thanksgiving Potluck! Bring a favorite dish to share\, enjoy great food and conversation\, and celebrate everything we’ve accomplished together this year. 								\n				\n									It’s a time to relax\, reconnect\, and give thanks in the company of the horses and people who make this sanctuary so special. 								\n		\n				\n										\n						\n									Volunteer Registration \n					\n					\n								\n				\n										\n						\n									Veterans & Retired First Responders Registration COMING SOON
URL:https://henryshomesanctuary.org/event/self-care-saturday-registration-required-october-12th/
LOCATION:14368 Perry Road\, Conroe Texas
ATTACH;FMTTYPE=image/jpeg:https://henryshomesanctuary.org/wp-content/uploads/2024/06/Self-Care-Satruday-1.jpg
END:VEVENT
BEGIN:VEVENT
DTSTART;TZID=America/Chicago:20241005T100000
DTEND;TZID=America/Chicago:20241005T120000
DTSTAMP:20260425T052851
CREATED:20240722T085153Z
LAST-MODIFIED:20250210T112634Z
UID:10000024-1728122400-1728129600@henryshomesanctuary.org
SUMMARY:Self-Care Saturday - Registration Required
DESCRIPTION:This is our favorite way to say THANK YOU to the incredible volunteers who make everything possible at Henry’s Home. 								\n				\n									Join us for a festive Thanksgiving Potluck! Bring a favorite dish to share\, enjoy great food and conversation\, and celebrate everything we’ve accomplished together this year. 								\n				\n									It’s a time to relax\, reconnect\, and give thanks in the company of the horses and people who make this sanctuary so special. 								\n		\n				\n										\n						\n									Volunteer Registration \n					\n					\n								\n				\n										\n						\n									Veterans & Retired First Responders Registration COMING SOON
URL:https://henryshomesanctuary.org/event/self-care-saturday-registration-required-october-5th/
LOCATION:14368 Perry Road\, Conroe Texas
ATTACH;FMTTYPE=image/jpeg:https://henryshomesanctuary.org/wp-content/uploads/2024/06/Self-Care-Satruday-1.jpg
END:VEVENT
BEGIN:VEVENT
DTSTART;TZID=America/Chicago:20240928T100000
DTEND;TZID=America/Chicago:20240928T120000
DTSTAMP:20260425T052851
CREATED:20240722T085120Z
LAST-MODIFIED:20250210T112629Z
UID:10000023-1727517600-1727524800@henryshomesanctuary.org
SUMMARY:Self-Care Saturday - Registration Required
DESCRIPTION:This is our favorite way to say THANK YOU to the incredible volunteers who make everything possible at Henry’s Home. 								\n				\n									Join us for a festive Thanksgiving Potluck! Bring a favorite dish to share\, enjoy great food and conversation\, and celebrate everything we’ve accomplished together this year. 								\n				\n									It’s a time to relax\, reconnect\, and give thanks in the company of the horses and people who make this sanctuary so special. 								\n		\n				\n										\n						\n									Volunteer Registration \n					\n					\n								\n				\n										\n						\n									Veterans & Retired First Responders Registration COMING SOON
URL:https://henryshomesanctuary.org/event/self-care-saturday-registration-required-28th/
LOCATION:14368 Perry Road\, Conroe Texas
ATTACH;FMTTYPE=image/jpeg:https://henryshomesanctuary.org/wp-content/uploads/2024/06/Self-Care-Satruday-1.jpg
END:VEVENT
BEGIN:VEVENT
DTSTART;TZID=America/Chicago:20240921T100000
DTEND;TZID=America/Chicago:20240921T120000
DTSTAMP:20260425T052851
CREATED:20240722T085034Z
LAST-MODIFIED:20250210T112624Z
UID:10000022-1726912800-1726920000@henryshomesanctuary.org
SUMMARY:Self-Care Saturday - Registration Required
DESCRIPTION:This is our favorite way to say THANK YOU to the incredible volunteers who make everything possible at Henry’s Home. 								\n				\n									Join us for a festive Thanksgiving Potluck! Bring a favorite dish to share\, enjoy great food and conversation\, and celebrate everything we’ve accomplished together this year. 								\n				\n									It’s a time to relax\, reconnect\, and give thanks in the company of the horses and people who make this sanctuary so special. 								\n		\n				\n										\n						\n									Volunteer Registration \n					\n					\n								\n				\n										\n						\n									Veterans & Retired First Responders Registration COMING SOON
URL:https://henryshomesanctuary.org/event/self-care-saturday-registration-required-21th/
LOCATION:14368 Perry Road\, Conroe Texas
ATTACH;FMTTYPE=image/jpeg:https://henryshomesanctuary.org/wp-content/uploads/2024/06/Self-Care-Satruday-1.jpg
END:VEVENT
BEGIN:VEVENT
DTSTART;TZID=America/Chicago:20240914T133000
DTEND;TZID=America/Chicago:20240914T153000
DTSTAMP:20260425T052851
CREATED:20240712T185856Z
LAST-MODIFIED:20250917T115916Z
UID:10000005-1726320600-1726327800@henryshomesanctuary.org
SUMMARY:New Volunteer Orientation
DESCRIPTION:This is our favorite way to say THANK YOU to the incredible volunteers who make everything possible at Henry’s Home. 								\n				\n									Join us for a festive Thanksgiving Potluck! Bring a favorite dish to share\, enjoy great food and conversation\, and celebrate everything we’ve accomplished together this year. 								\n				\n									It’s a time to relax\, reconnect\, and give thanks in the company of the horses and people who make this sanctuary so special. 								\n		\n				\n										\n						\n									Volunteer Registration \n					\n					\n								\n				\n										\n						\n									Veterans & Retired First Responders Registration COMING SOON
URL:https://henryshomesanctuary.org/event/new-volunteer-orientation-old/
LOCATION:14368 Perry Road\, Conroe Texas
ATTACH;FMTTYPE=image/jpeg:https://henryshomesanctuary.org/wp-content/uploads/2024/06/New-Volunteer-Orientation-1.jpg
END:VEVENT
BEGIN:VEVENT
DTSTART;TZID=America/Chicago:20240914T100000
DTEND;TZID=America/Chicago:20240914T120000
DTSTAMP:20260425T052851
CREATED:20240712T185756Z
LAST-MODIFIED:20250210T112615Z
UID:10000007-1726308000-1726315200@henryshomesanctuary.org
SUMMARY:Self-Care Saturday - Registration Required
DESCRIPTION:This is our favorite way to say THANK YOU to the incredible volunteers who make everything possible at Henry’s Home. 								\n				\n									Join us for a festive Thanksgiving Potluck! Bring a favorite dish to share\, enjoy great food and conversation\, and celebrate everything we’ve accomplished together this year. 								\n				\n									It’s a time to relax\, reconnect\, and give thanks in the company of the horses and people who make this sanctuary so special. 								\n		\n				\n										\n						\n									Volunteer Registration \n					\n					\n								\n				\n										\n						\n									Veterans & Retired First Responders Registration COMING SOON
URL:https://henryshomesanctuary.org/event/self-care-saturday-registration-required/
LOCATION:14368 Perry Road\, Conroe Texas
ATTACH;FMTTYPE=image/jpeg:https://henryshomesanctuary.org/wp-content/uploads/2024/06/Self-Care-Satruday-1.jpg
END:VEVENT
END:VCALENDAR